BEGIN:VCALENDAR
VERSION:2.0
PRODID:-//División Sonora - ECPv6.15.20//NONSGML v1.0//EN
CALSCALE:GREGORIAN
METHOD:PUBLISH
X-ORIGINAL-URL:https://divisionsonora.com
X-WR-CALDESC:Eventos para División Sonora
REFRESH-INTERVAL;VALUE=DURATION:PT1H
X-Robots-Tag:noindex
X-PUBLISHED-TTL:PT1H
BEGIN:VTIMEZONE
TZID:Europe/Madrid
BEGIN:DAYLIGHT
TZOFFSETFROM:+0100
TZOFFSETTO:+0200
TZNAME:CEST
DTSTART:20250330T010000
END:DAYLIGHT
BEGIN:STANDARD
TZOFFSETFROM:+0200
TZOFFSETTO:+0100
TZNAME:CET
DTSTART:20251026T010000
END:STANDARD
BEGIN:DAYLIGHT
TZOFFSETFROM:+0100
TZOFFSETTO:+0200
TZNAME:CEST
DTSTART:20260329T010000
END:DAYLIGHT
BEGIN:STANDARD
TZOFFSETFROM:+0200
TZOFFSETTO:+0100
TZNAME:CET
DTSTART:20261025T010000
END:STANDARD
BEGIN:DAYLIGHT
TZOFFSETFROM:+0100
TZOFFSETTO:+0200
TZNAME:CEST
DTSTART:20270328T010000
END:DAYLIGHT
BEGIN:STANDARD
TZOFFSETFROM:+0200
TZOFFSETTO:+0100
TZNAME:CET
DTSTART:20271031T010000
END:STANDARD
END:VTIMEZONE
BEGIN:VEVENT
DTSTART;TZID=Europe/Madrid:20260527T233000
DTEND;TZID=Europe/Madrid:20260527T233000
DTSTAMP:20260419T150106
CREATED:20240508T113529Z
LAST-MODIFIED:20240508T114238Z
UID:10000448-1779924600-1779924600@divisionsonora.com
SUMMARY:División Sonora Dj's #DSdjs @ Honky Tonk Bar
DESCRIPTION:
URL:https://divisionsonora.com/event/division-sonora-djs-dsdjs/2026-05-27/
LOCATION:Honky Tonk Bar\, Covarrubias 24\, Madrid\, Madrid\, España
ORGANIZER;CN="Divisi%C3%B3n Sonora":MAILTO:info@divisionsonora.com
END:VEVENT
BEGIN:VEVENT
DTSTART;TZID=Europe/Madrid:20260528T233000
DTEND;TZID=Europe/Madrid:20260528T233000
DTSTAMP:20260419T150106
CREATED:20240508T113529Z
LAST-MODIFIED:20240508T114238Z
UID:10000449-1780011000-1780011000@divisionsonora.com
SUMMARY:División Sonora Dj's #DSdjs @ Honky Tonk Bar
DESCRIPTION:
URL:https://divisionsonora.com/event/division-sonora-djs-dsdjs/2026-05-28/
LOCATION:Honky Tonk Bar\, Covarrubias 24\, Madrid\, Madrid\, España
ORGANIZER;CN="Divisi%C3%B3n Sonora":MAILTO:info@divisionsonora.com
END:VEVENT
BEGIN:VEVENT
DTSTART;TZID=Europe/Madrid:20260529T233000
DTEND;TZID=Europe/Madrid:20260529T233000
DTSTAMP:20260419T150106
CREATED:20240508T113529Z
LAST-MODIFIED:20240508T114238Z
UID:10000450-1780097400-1780097400@divisionsonora.com
SUMMARY:División Sonora Dj's #DSdjs @ Honky Tonk Bar
DESCRIPTION:
URL:https://divisionsonora.com/event/division-sonora-djs-dsdjs/2026-05-29/
LOCATION:Honky Tonk Bar\, Covarrubias 24\, Madrid\, Madrid\, España
ORGANIZER;CN="Divisi%C3%B3n Sonora":MAILTO:info@divisionsonora.com
END:VEVENT
BEGIN:VEVENT
DTSTART;TZID=Europe/Madrid:20260530T233000
DTEND;TZID=Europe/Madrid:20260530T233000
DTSTAMP:20260419T150106
CREATED:20240508T113529Z
LAST-MODIFIED:20240508T114238Z
UID:10000451-1780183800-1780183800@divisionsonora.com
SUMMARY:División Sonora Dj's #DSdjs @ Honky Tonk Bar
DESCRIPTION:
URL:https://divisionsonora.com/event/division-sonora-djs-dsdjs/2026-05-30/
LOCATION:Honky Tonk Bar\, Covarrubias 24\, Madrid\, Madrid\, España
ORGANIZER;CN="Divisi%C3%B3n Sonora":MAILTO:info@divisionsonora.com
END:VEVENT
BEGIN:VEVENT
DTSTART;TZID=Europe/Madrid:20260603T233000
DTEND;TZID=Europe/Madrid:20260603T233000
DTSTAMP:20260419T150106
CREATED:20240508T113529Z
LAST-MODIFIED:20240508T114238Z
UID:10000452-1780529400-1780529400@divisionsonora.com
SUMMARY:División Sonora Dj's #DSdjs @ Honky Tonk Bar
DESCRIPTION:
URL:https://divisionsonora.com/event/division-sonora-djs-dsdjs/2026-06-03/
LOCATION:Honky Tonk Bar\, Covarrubias 24\, Madrid\, Madrid\, España
ORGANIZER;CN="Divisi%C3%B3n Sonora":MAILTO:info@divisionsonora.com
END:VEVENT
BEGIN:VEVENT
DTSTART;TZID=Europe/Madrid:20260604T233000
DTEND;TZID=Europe/Madrid:20260604T233000
DTSTAMP:20260419T150106
CREATED:20240508T113529Z
LAST-MODIFIED:20240508T114238Z
UID:10000453-1780615800-1780615800@divisionsonora.com
SUMMARY:División Sonora Dj's #DSdjs @ Honky Tonk Bar
DESCRIPTION:
URL:https://divisionsonora.com/event/division-sonora-djs-dsdjs/2026-06-04/
LOCATION:Honky Tonk Bar\, Covarrubias 24\, Madrid\, Madrid\, España
ORGANIZER;CN="Divisi%C3%B3n Sonora":MAILTO:info@divisionsonora.com
END:VEVENT
BEGIN:VEVENT
DTSTART;TZID=Europe/Madrid:20260605T233000
DTEND;TZID=Europe/Madrid:20260605T233000
DTSTAMP:20260419T150106
CREATED:20240508T113529Z
LAST-MODIFIED:20240508T114238Z
UID:10000454-1780702200-1780702200@divisionsonora.com
SUMMARY:División Sonora Dj's #DSdjs @ Honky Tonk Bar
DESCRIPTION:
URL:https://divisionsonora.com/event/division-sonora-djs-dsdjs/2026-06-05/
LOCATION:Honky Tonk Bar\, Covarrubias 24\, Madrid\, Madrid\, España
ORGANIZER;CN="Divisi%C3%B3n Sonora":MAILTO:info@divisionsonora.com
END:VEVENT
BEGIN:VEVENT
DTSTART;TZID=Europe/Madrid:20260606T233000
DTEND;TZID=Europe/Madrid:20260606T233000
DTSTAMP:20260419T150106
CREATED:20240508T113529Z
LAST-MODIFIED:20240508T114238Z
UID:10000455-1780788600-1780788600@divisionsonora.com
SUMMARY:División Sonora Dj's #DSdjs @ Honky Tonk Bar
DESCRIPTION:
URL:https://divisionsonora.com/event/division-sonora-djs-dsdjs/2026-06-06/
LOCATION:Honky Tonk Bar\, Covarrubias 24\, Madrid\, Madrid\, España
ORGANIZER;CN="Divisi%C3%B3n Sonora":MAILTO:info@divisionsonora.com
END:VEVENT
BEGIN:VEVENT
DTSTART;TZID=Europe/Madrid:20260610T233000
DTEND;TZID=Europe/Madrid:20260610T233000
DTSTAMP:20260419T150106
CREATED:20240508T113529Z
LAST-MODIFIED:20240508T114238Z
UID:10000456-1781134200-1781134200@divisionsonora.com
SUMMARY:División Sonora Dj's #DSdjs @ Honky Tonk Bar
DESCRIPTION:
URL:https://divisionsonora.com/event/division-sonora-djs-dsdjs/2026-06-10/
LOCATION:Honky Tonk Bar\, Covarrubias 24\, Madrid\, Madrid\, España
ORGANIZER;CN="Divisi%C3%B3n Sonora":MAILTO:info@divisionsonora.com
END:VEVENT
BEGIN:VEVENT
DTSTART;TZID=Europe/Madrid:20260611T233000
DTEND;TZID=Europe/Madrid:20260611T233000
DTSTAMP:20260419T150106
CREATED:20240508T113529Z
LAST-MODIFIED:20240508T114238Z
UID:10000457-1781220600-1781220600@divisionsonora.com
SUMMARY:División Sonora Dj's #DSdjs @ Honky Tonk Bar
DESCRIPTION:
URL:https://divisionsonora.com/event/division-sonora-djs-dsdjs/2026-06-11/
LOCATION:Honky Tonk Bar\, Covarrubias 24\, Madrid\, Madrid\, España
ORGANIZER;CN="Divisi%C3%B3n Sonora":MAILTO:info@divisionsonora.com
END:VEVENT
BEGIN:VEVENT
DTSTART;TZID=Europe/Madrid:20260612T233000
DTEND;TZID=Europe/Madrid:20260612T233000
DTSTAMP:20260419T150106
CREATED:20240508T113529Z
LAST-MODIFIED:20240508T114238Z
UID:10000458-1781307000-1781307000@divisionsonora.com
SUMMARY:División Sonora Dj's #DSdjs @ Honky Tonk Bar
DESCRIPTION:
URL:https://divisionsonora.com/event/division-sonora-djs-dsdjs/2026-06-12/
LOCATION:Honky Tonk Bar\, Covarrubias 24\, Madrid\, Madrid\, España
ORGANIZER;CN="Divisi%C3%B3n Sonora":MAILTO:info@divisionsonora.com
END:VEVENT
BEGIN:VEVENT
DTSTART;TZID=Europe/Madrid:20260613T233000
DTEND;TZID=Europe/Madrid:20260613T233000
DTSTAMP:20260419T150106
CREATED:20240508T113529Z
LAST-MODIFIED:20240508T114238Z
UID:10000459-1781393400-1781393400@divisionsonora.com
SUMMARY:División Sonora Dj's #DSdjs @ Honky Tonk Bar
DESCRIPTION:
URL:https://divisionsonora.com/event/division-sonora-djs-dsdjs/2026-06-13/
LOCATION:Honky Tonk Bar\, Covarrubias 24\, Madrid\, Madrid\, España
ORGANIZER;CN="Divisi%C3%B3n Sonora":MAILTO:info@divisionsonora.com
END:VEVENT
BEGIN:VEVENT
DTSTART;TZID=Europe/Madrid:20260617T233000
DTEND;TZID=Europe/Madrid:20260617T233000
DTSTAMP:20260419T150106
CREATED:20240508T113529Z
LAST-MODIFIED:20240508T114238Z
UID:10000460-1781739000-1781739000@divisionsonora.com
SUMMARY:División Sonora Dj's #DSdjs @ Honky Tonk Bar
DESCRIPTION:
URL:https://divisionsonora.com/event/division-sonora-djs-dsdjs/2026-06-17/
LOCATION:Honky Tonk Bar\, Covarrubias 24\, Madrid\, Madrid\, España
ORGANIZER;CN="Divisi%C3%B3n Sonora":MAILTO:info@divisionsonora.com
END:VEVENT
BEGIN:VEVENT
DTSTART;TZID=Europe/Madrid:20260618T233000
DTEND;TZID=Europe/Madrid:20260618T233000
DTSTAMP:20260419T150106
CREATED:20240508T113529Z
LAST-MODIFIED:20240508T114238Z
UID:10000461-1781825400-1781825400@divisionsonora.com
SUMMARY:División Sonora Dj's #DSdjs @ Honky Tonk Bar
DESCRIPTION:
URL:https://divisionsonora.com/event/division-sonora-djs-dsdjs/2026-06-18/
LOCATION:Honky Tonk Bar\, Covarrubias 24\, Madrid\, Madrid\, España
ORGANIZER;CN="Divisi%C3%B3n Sonora":MAILTO:info@divisionsonora.com
END:VEVENT
BEGIN:VEVENT
DTSTART;TZID=Europe/Madrid:20260619T233000
DTEND;TZID=Europe/Madrid:20260619T233000
DTSTAMP:20260419T150106
CREATED:20240508T113529Z
LAST-MODIFIED:20240508T114238Z
UID:10000462-1781911800-1781911800@divisionsonora.com
SUMMARY:División Sonora Dj's #DSdjs @ Honky Tonk Bar
DESCRIPTION:
URL:https://divisionsonora.com/event/division-sonora-djs-dsdjs/2026-06-19/
LOCATION:Honky Tonk Bar\, Covarrubias 24\, Madrid\, Madrid\, España
ORGANIZER;CN="Divisi%C3%B3n Sonora":MAILTO:info@divisionsonora.com
END:VEVENT
BEGIN:VEVENT
DTSTART;TZID=Europe/Madrid:20260620T233000
DTEND;TZID=Europe/Madrid:20260620T233000
DTSTAMP:20260419T150106
CREATED:20240508T113529Z
LAST-MODIFIED:20240508T114238Z
UID:10000463-1781998200-1781998200@divisionsonora.com
SUMMARY:División Sonora Dj's #DSdjs @ Honky Tonk Bar
DESCRIPTION:
URL:https://divisionsonora.com/event/division-sonora-djs-dsdjs/2026-06-20/
LOCATION:Honky Tonk Bar\, Covarrubias 24\, Madrid\, Madrid\, España
ORGANIZER;CN="Divisi%C3%B3n Sonora":MAILTO:info@divisionsonora.com
END:VEVENT
BEGIN:VEVENT
DTSTART;TZID=Europe/Madrid:20260624T233000
DTEND;TZID=Europe/Madrid:20260624T233000
DTSTAMP:20260419T150106
CREATED:20240508T113529Z
LAST-MODIFIED:20240508T114238Z
UID:10000464-1782343800-1782343800@divisionsonora.com
SUMMARY:División Sonora Dj's #DSdjs @ Honky Tonk Bar
DESCRIPTION:
URL:https://divisionsonora.com/event/division-sonora-djs-dsdjs/2026-06-24/
LOCATION:Honky Tonk Bar\, Covarrubias 24\, Madrid\, Madrid\, España
ORGANIZER;CN="Divisi%C3%B3n Sonora":MAILTO:info@divisionsonora.com
END:VEVENT
BEGIN:VEVENT
DTSTART;TZID=Europe/Madrid:20260625T233000
DTEND;TZID=Europe/Madrid:20260625T233000
DTSTAMP:20260419T150106
CREATED:20240508T113529Z
LAST-MODIFIED:20240508T114238Z
UID:10000465-1782430200-1782430200@divisionsonora.com
SUMMARY:División Sonora Dj's #DSdjs @ Honky Tonk Bar
DESCRIPTION:
URL:https://divisionsonora.com/event/division-sonora-djs-dsdjs/2026-06-25/
LOCATION:Honky Tonk Bar\, Covarrubias 24\, Madrid\, Madrid\, España
ORGANIZER;CN="Divisi%C3%B3n Sonora":MAILTO:info@divisionsonora.com
END:VEVENT
BEGIN:VEVENT
DTSTART;TZID=Europe/Madrid:20260626T233000
DTEND;TZID=Europe/Madrid:20260626T233000
DTSTAMP:20260419T150106
CREATED:20240508T113529Z
LAST-MODIFIED:20240508T114238Z
UID:10000466-1782516600-1782516600@divisionsonora.com
SUMMARY:División Sonora Dj's #DSdjs @ Honky Tonk Bar
DESCRIPTION:
URL:https://divisionsonora.com/event/division-sonora-djs-dsdjs/2026-06-26/
LOCATION:Honky Tonk Bar\, Covarrubias 24\, Madrid\, Madrid\, España
ORGANIZER;CN="Divisi%C3%B3n Sonora":MAILTO:info@divisionsonora.com
END:VEVENT
BEGIN:VEVENT
DTSTART;TZID=Europe/Madrid:20260627T233000
DTEND;TZID=Europe/Madrid:20260627T233000
DTSTAMP:20260419T150106
CREATED:20240508T113529Z
LAST-MODIFIED:20240508T114238Z
UID:10000467-1782603000-1782603000@divisionsonora.com
SUMMARY:División Sonora Dj's #DSdjs @ Honky Tonk Bar
DESCRIPTION:
URL:https://divisionsonora.com/event/division-sonora-djs-dsdjs/2026-06-27/
LOCATION:Honky Tonk Bar\, Covarrubias 24\, Madrid\, Madrid\, España
ORGANIZER;CN="Divisi%C3%B3n Sonora":MAILTO:info@divisionsonora.com
END:VEVENT
BEGIN:VEVENT
DTSTART;TZID=Europe/Madrid:20260701T233000
DTEND;TZID=Europe/Madrid:20260701T233000
DTSTAMP:20260419T150106
CREATED:20240508T113529Z
LAST-MODIFIED:20240508T114238Z
UID:10000468-1782948600-1782948600@divisionsonora.com
SUMMARY:División Sonora Dj's #DSdjs @ Honky Tonk Bar
DESCRIPTION:
URL:https://divisionsonora.com/event/division-sonora-djs-dsdjs/2026-07-01/
LOCATION:Honky Tonk Bar\, Covarrubias 24\, Madrid\, Madrid\, España
ORGANIZER;CN="Divisi%C3%B3n Sonora":MAILTO:info@divisionsonora.com
END:VEVENT
BEGIN:VEVENT
DTSTART;TZID=Europe/Madrid:20260702T233000
DTEND;TZID=Europe/Madrid:20260702T233000
DTSTAMP:20260419T150106
CREATED:20240508T113529Z
LAST-MODIFIED:20240508T114238Z
UID:10000469-1783035000-1783035000@divisionsonora.com
SUMMARY:División Sonora Dj's #DSdjs @ Honky Tonk Bar
DESCRIPTION:
URL:https://divisionsonora.com/event/division-sonora-djs-dsdjs/2026-07-02/
LOCATION:Honky Tonk Bar\, Covarrubias 24\, Madrid\, Madrid\, España
ORGANIZER;CN="Divisi%C3%B3n Sonora":MAILTO:info@divisionsonora.com
END:VEVENT
BEGIN:VEVENT
DTSTART;TZID=Europe/Madrid:20260703T233000
DTEND;TZID=Europe/Madrid:20260703T233000
DTSTAMP:20260419T150106
CREATED:20240508T113529Z
LAST-MODIFIED:20240508T114238Z
UID:10000470-1783121400-1783121400@divisionsonora.com
SUMMARY:División Sonora Dj's #DSdjs @ Honky Tonk Bar
DESCRIPTION:
URL:https://divisionsonora.com/event/division-sonora-djs-dsdjs/2026-07-03/
LOCATION:Honky Tonk Bar\, Covarrubias 24\, Madrid\, Madrid\, España
ORGANIZER;CN="Divisi%C3%B3n Sonora":MAILTO:info@divisionsonora.com
END:VEVENT
BEGIN:VEVENT
DTSTART;TZID=Europe/Madrid:20260704T233000
DTEND;TZID=Europe/Madrid:20260704T233000
DTSTAMP:20260419T150106
CREATED:20240508T113529Z
LAST-MODIFIED:20240508T114238Z
UID:10000471-1783207800-1783207800@divisionsonora.com
SUMMARY:División Sonora Dj's #DSdjs @ Honky Tonk Bar
DESCRIPTION:
URL:https://divisionsonora.com/event/division-sonora-djs-dsdjs/2026-07-04/
LOCATION:Honky Tonk Bar\, Covarrubias 24\, Madrid\, Madrid\, España
ORGANIZER;CN="Divisi%C3%B3n Sonora":MAILTO:info@divisionsonora.com
END:VEVENT
BEGIN:VEVENT
DTSTART;TZID=Europe/Madrid:20260708T233000
DTEND;TZID=Europe/Madrid:20260708T233000
DTSTAMP:20260419T150106
CREATED:20240508T113529Z
LAST-MODIFIED:20240508T114238Z
UID:10000472-1783553400-1783553400@divisionsonora.com
SUMMARY:División Sonora Dj's #DSdjs @ Honky Tonk Bar
DESCRIPTION:
URL:https://divisionsonora.com/event/division-sonora-djs-dsdjs/2026-07-08/
LOCATION:Honky Tonk Bar\, Covarrubias 24\, Madrid\, Madrid\, España
ORGANIZER;CN="Divisi%C3%B3n Sonora":MAILTO:info@divisionsonora.com
END:VEVENT
BEGIN:VEVENT
DTSTART;TZID=Europe/Madrid:20260709T233000
DTEND;TZID=Europe/Madrid:20260709T233000
DTSTAMP:20260419T150106
CREATED:20240508T113529Z
LAST-MODIFIED:20240508T114238Z
UID:10000473-1783639800-1783639800@divisionsonora.com
SUMMARY:División Sonora Dj's #DSdjs @ Honky Tonk Bar
DESCRIPTION:
URL:https://divisionsonora.com/event/division-sonora-djs-dsdjs/2026-07-09/
LOCATION:Honky Tonk Bar\, Covarrubias 24\, Madrid\, Madrid\, España
ORGANIZER;CN="Divisi%C3%B3n Sonora":MAILTO:info@divisionsonora.com
END:VEVENT
BEGIN:VEVENT
DTSTART;TZID=Europe/Madrid:20260710T233000
DTEND;TZID=Europe/Madrid:20260710T233000
DTSTAMP:20260419T150106
CREATED:20240508T113529Z
LAST-MODIFIED:20240508T114238Z
UID:10000474-1783726200-1783726200@divisionsonora.com
SUMMARY:División Sonora Dj's #DSdjs @ Honky Tonk Bar
DESCRIPTION:
URL:https://divisionsonora.com/event/division-sonora-djs-dsdjs/2026-07-10/
LOCATION:Honky Tonk Bar\, Covarrubias 24\, Madrid\, Madrid\, España
ORGANIZER;CN="Divisi%C3%B3n Sonora":MAILTO:info@divisionsonora.com
END:VEVENT
BEGIN:VEVENT
DTSTART;TZID=Europe/Madrid:20260711T233000
DTEND;TZID=Europe/Madrid:20260711T233000
DTSTAMP:20260419T150106
CREATED:20240508T113529Z
LAST-MODIFIED:20240508T114238Z
UID:10000475-1783812600-1783812600@divisionsonora.com
SUMMARY:División Sonora Dj's #DSdjs @ Honky Tonk Bar
DESCRIPTION:
URL:https://divisionsonora.com/event/division-sonora-djs-dsdjs/2026-07-11/
LOCATION:Honky Tonk Bar\, Covarrubias 24\, Madrid\, Madrid\, España
ORGANIZER;CN="Divisi%C3%B3n Sonora":MAILTO:info@divisionsonora.com
END:VEVENT
BEGIN:VEVENT
DTSTART;TZID=Europe/Madrid:20260715T233000
DTEND;TZID=Europe/Madrid:20260715T233000
DTSTAMP:20260419T150106
CREATED:20240508T113529Z
LAST-MODIFIED:20240508T114238Z
UID:10000476-1784158200-1784158200@divisionsonora.com
SUMMARY:División Sonora Dj's #DSdjs @ Honky Tonk Bar
DESCRIPTION:
URL:https://divisionsonora.com/event/division-sonora-djs-dsdjs/2026-07-15/
LOCATION:Honky Tonk Bar\, Covarrubias 24\, Madrid\, Madrid\, España
ORGANIZER;CN="Divisi%C3%B3n Sonora":MAILTO:info@divisionsonora.com
END:VEVENT
BEGIN:VEVENT
DTSTART;TZID=Europe/Madrid:20260716T233000
DTEND;TZID=Europe/Madrid:20260716T233000
DTSTAMP:20260419T150106
CREATED:20240508T113529Z
LAST-MODIFIED:20240508T114238Z
UID:10000477-1784244600-1784244600@divisionsonora.com
SUMMARY:División Sonora Dj's #DSdjs @ Honky Tonk Bar
DESCRIPTION:
URL:https://divisionsonora.com/event/division-sonora-djs-dsdjs/2026-07-16/
LOCATION:Honky Tonk Bar\, Covarrubias 24\, Madrid\, Madrid\, España
ORGANIZER;CN="Divisi%C3%B3n Sonora":MAILTO:info@divisionsonora.com
END:VEVENT
END:VCALENDAR