BEGIN:VCALENDAR
VERSION:2.0
PRODID:-//División Sonora - ECPv6.15.20//NONSGML v1.0//EN
CALSCALE:GREGORIAN
METHOD:PUBLISH
X-ORIGINAL-URL:https://divisionsonora.com
X-WR-CALDESC:Eventos para División Sonora
REFRESH-INTERVAL;VALUE=DURATION:PT1H
X-Robots-Tag:noindex
X-PUBLISHED-TTL:PT1H
BEGIN:VTIMEZONE
TZID:Europe/Madrid
BEGIN:DAYLIGHT
TZOFFSETFROM:+0100
TZOFFSETTO:+0200
TZNAME:CEST
DTSTART:20250330T010000
END:DAYLIGHT
BEGIN:STANDARD
TZOFFSETFROM:+0200
TZOFFSETTO:+0100
TZNAME:CET
DTSTART:20251026T010000
END:STANDARD
BEGIN:DAYLIGHT
TZOFFSETFROM:+0100
TZOFFSETTO:+0200
TZNAME:CEST
DTSTART:20260329T010000
END:DAYLIGHT
BEGIN:STANDARD
TZOFFSETFROM:+0200
TZOFFSETTO:+0100
TZNAME:CET
DTSTART:20261025T010000
END:STANDARD
BEGIN:DAYLIGHT
TZOFFSETFROM:+0100
TZOFFSETTO:+0200
TZNAME:CEST
DTSTART:20270328T010000
END:DAYLIGHT
BEGIN:STANDARD
TZOFFSETFROM:+0200
TZOFFSETTO:+0100
TZNAME:CET
DTSTART:20271031T010000
END:STANDARD
END:VTIMEZONE
BEGIN:VEVENT
DTSTART;TZID=Europe/Madrid:20260304T233000
DTEND;TZID=Europe/Madrid:20260304T233000
DTSTAMP:20260421T173943
CREATED:20240508T113529Z
LAST-MODIFIED:20240508T114238Z
UID:10000400-1772667000-1772667000@divisionsonora.com
SUMMARY:División Sonora Dj's #DSdjs @ Honky Tonk Bar
DESCRIPTION:
URL:https://divisionsonora.com/event/division-sonora-djs-dsdjs/2026-03-04/
LOCATION:Honky Tonk Bar\, Covarrubias 24\, Madrid\, Madrid\, España
ORGANIZER;CN="Divisi%C3%B3n Sonora":MAILTO:info@divisionsonora.com
END:VEVENT
BEGIN:VEVENT
DTSTART;TZID=Europe/Madrid:20260305T100000
DTEND;TZID=Europe/Madrid:20260305T230000
DTSTAMP:20260421T173943
CREATED:20260228T094504Z
LAST-MODIFIED:20260228T094505Z
UID:10002739-1772704800-1772751600@divisionsonora.com
SUMMARY:RootedCON 2026 en Kinépolis
DESCRIPTION:
URL:https://divisionsonora.com/event/rootedcon-2026-en-kinepolis/2026-03-05/
LOCATION:Kinépolis\, Edgar Nevilla S/N\, Pozuelo\, Madrid\, 28223
ATTACH;FMTTYPE=image/jpeg:https://divisionsonora.com/wp-content/uploads/2026/02/Cartel-ContenidoCultural-RootedCON2026.jpg
ORGANIZER;CN="Divisi%C3%B3n Sonora":MAILTO:info@divisionsonora.com
END:VEVENT
BEGIN:VEVENT
DTSTART;TZID=Europe/Madrid:20260305T233000
DTEND;TZID=Europe/Madrid:20260305T233000
DTSTAMP:20260421T173943
CREATED:20240508T113529Z
LAST-MODIFIED:20240508T114238Z
UID:10000401-1772753400-1772753400@divisionsonora.com
SUMMARY:División Sonora Dj's #DSdjs @ Honky Tonk Bar
DESCRIPTION:
URL:https://divisionsonora.com/event/division-sonora-djs-dsdjs/2026-03-05/
LOCATION:Honky Tonk Bar\, Covarrubias 24\, Madrid\, Madrid\, España
ORGANIZER;CN="Divisi%C3%B3n Sonora":MAILTO:info@divisionsonora.com
END:VEVENT
BEGIN:VEVENT
DTSTART;TZID=Europe/Madrid:20260306T100000
DTEND;TZID=Europe/Madrid:20260306T230000
DTSTAMP:20260421T173943
CREATED:20260228T094504Z
LAST-MODIFIED:20260228T094505Z
UID:10002740-1772791200-1772838000@divisionsonora.com
SUMMARY:RootedCON 2026 en Kinépolis
DESCRIPTION:
URL:https://divisionsonora.com/event/rootedcon-2026-en-kinepolis/2026-03-06/
LOCATION:Kinépolis\, Edgar Nevilla S/N\, Pozuelo\, Madrid\, 28223
ATTACH;FMTTYPE=image/jpeg:https://divisionsonora.com/wp-content/uploads/2026/02/Cartel-ContenidoCultural-RootedCON2026.jpg
ORGANIZER;CN="Divisi%C3%B3n Sonora":MAILTO:info@divisionsonora.com
END:VEVENT
BEGIN:VEVENT
DTSTART;TZID=Europe/Madrid:20260306T233000
DTEND;TZID=Europe/Madrid:20260306T233000
DTSTAMP:20260421T173943
CREATED:20240508T113529Z
LAST-MODIFIED:20240508T114238Z
UID:10000402-1772839800-1772839800@divisionsonora.com
SUMMARY:División Sonora Dj's #DSdjs @ Honky Tonk Bar
DESCRIPTION:
URL:https://divisionsonora.com/event/division-sonora-djs-dsdjs/2026-03-06/
LOCATION:Honky Tonk Bar\, Covarrubias 24\, Madrid\, Madrid\, España
ORGANIZER;CN="Divisi%C3%B3n Sonora":MAILTO:info@divisionsonora.com
END:VEVENT
BEGIN:VEVENT
DTSTART;TZID=Europe/Madrid:20260307T100000
DTEND;TZID=Europe/Madrid:20260307T160000
DTSTAMP:20260421T173943
CREATED:20260228T094504Z
LAST-MODIFIED:20260228T094505Z
UID:10002741-1772877600-1772899200@divisionsonora.com
SUMMARY:RootedCON 2026 en Kinépolis
DESCRIPTION:
URL:https://divisionsonora.com/event/rootedcon-2026-en-kinepolis/2026-03-07/
LOCATION:Kinépolis\, Edgar Nevilla S/N\, Pozuelo\, Madrid\, 28223
ATTACH;FMTTYPE=image/jpeg:https://divisionsonora.com/wp-content/uploads/2026/02/Cartel-ContenidoCultural-RootedCON2026.jpg
ORGANIZER;CN="Divisi%C3%B3n Sonora":MAILTO:info@divisionsonora.com
END:VEVENT
BEGIN:VEVENT
DTSTART;TZID=Europe/Madrid:20260307T233000
DTEND;TZID=Europe/Madrid:20260307T233000
DTSTAMP:20260421T173943
CREATED:20240508T113529Z
LAST-MODIFIED:20240508T114238Z
UID:10000403-1772926200-1772926200@divisionsonora.com
SUMMARY:División Sonora Dj's #DSdjs @ Honky Tonk Bar
DESCRIPTION:
URL:https://divisionsonora.com/event/division-sonora-djs-dsdjs/2026-03-07/
LOCATION:Honky Tonk Bar\, Covarrubias 24\, Madrid\, Madrid\, España
ORGANIZER;CN="Divisi%C3%B3n Sonora":MAILTO:info@divisionsonora.com
END:VEVENT
BEGIN:VEVENT
DTSTART;TZID=Europe/Madrid:20260311T233000
DTEND;TZID=Europe/Madrid:20260311T233000
DTSTAMP:20260421T173943
CREATED:20240508T113529Z
LAST-MODIFIED:20240508T114238Z
UID:10000404-1773271800-1773271800@divisionsonora.com
SUMMARY:División Sonora Dj's #DSdjs @ Honky Tonk Bar
DESCRIPTION:
URL:https://divisionsonora.com/event/division-sonora-djs-dsdjs/2026-03-11/
LOCATION:Honky Tonk Bar\, Covarrubias 24\, Madrid\, Madrid\, España
ORGANIZER;CN="Divisi%C3%B3n Sonora":MAILTO:info@divisionsonora.com
END:VEVENT
BEGIN:VEVENT
DTSTART;TZID=Europe/Madrid:20260312T233000
DTEND;TZID=Europe/Madrid:20260312T233000
DTSTAMP:20260421T173943
CREATED:20240508T113529Z
LAST-MODIFIED:20240508T114238Z
UID:10000405-1773358200-1773358200@divisionsonora.com
SUMMARY:División Sonora Dj's #DSdjs @ Honky Tonk Bar
DESCRIPTION:
URL:https://divisionsonora.com/event/division-sonora-djs-dsdjs/2026-03-12/
LOCATION:Honky Tonk Bar\, Covarrubias 24\, Madrid\, Madrid\, España
ORGANIZER;CN="Divisi%C3%B3n Sonora":MAILTO:info@divisionsonora.com
END:VEVENT
BEGIN:VEVENT
DTSTART;TZID=Europe/Madrid:20260313T233000
DTEND;TZID=Europe/Madrid:20260313T233000
DTSTAMP:20260421T173943
CREATED:20240508T113529Z
LAST-MODIFIED:20240508T114238Z
UID:10000406-1773444600-1773444600@divisionsonora.com
SUMMARY:División Sonora Dj's #DSdjs @ Honky Tonk Bar
DESCRIPTION:
URL:https://divisionsonora.com/event/division-sonora-djs-dsdjs/2026-03-13/
LOCATION:Honky Tonk Bar\, Covarrubias 24\, Madrid\, Madrid\, España
ORGANIZER;CN="Divisi%C3%B3n Sonora":MAILTO:info@divisionsonora.com
END:VEVENT
BEGIN:VEVENT
DTSTART;TZID=Europe/Madrid:20260314T233000
DTEND;TZID=Europe/Madrid:20260314T233000
DTSTAMP:20260421T173943
CREATED:20240508T113529Z
LAST-MODIFIED:20240508T114238Z
UID:10000407-1773531000-1773531000@divisionsonora.com
SUMMARY:División Sonora Dj's #DSdjs @ Honky Tonk Bar
DESCRIPTION:
URL:https://divisionsonora.com/event/division-sonora-djs-dsdjs/2026-03-14/
LOCATION:Honky Tonk Bar\, Covarrubias 24\, Madrid\, Madrid\, España
ORGANIZER;CN="Divisi%C3%B3n Sonora":MAILTO:info@divisionsonora.com
END:VEVENT
BEGIN:VEVENT
DTSTART;TZID=Europe/Madrid:20260318T233000
DTEND;TZID=Europe/Madrid:20260318T233000
DTSTAMP:20260421T173943
CREATED:20240508T113529Z
LAST-MODIFIED:20240508T114238Z
UID:10000408-1773876600-1773876600@divisionsonora.com
SUMMARY:División Sonora Dj's #DSdjs @ Honky Tonk Bar
DESCRIPTION:
URL:https://divisionsonora.com/event/division-sonora-djs-dsdjs/2026-03-18/
LOCATION:Honky Tonk Bar\, Covarrubias 24\, Madrid\, Madrid\, España
ORGANIZER;CN="Divisi%C3%B3n Sonora":MAILTO:info@divisionsonora.com
END:VEVENT
BEGIN:VEVENT
DTSTART;TZID=Europe/Madrid:20260319T233000
DTEND;TZID=Europe/Madrid:20260319T233000
DTSTAMP:20260421T173943
CREATED:20240508T113529Z
LAST-MODIFIED:20240508T114238Z
UID:10000409-1773963000-1773963000@divisionsonora.com
SUMMARY:División Sonora Dj's #DSdjs @ Honky Tonk Bar
DESCRIPTION:
URL:https://divisionsonora.com/event/division-sonora-djs-dsdjs/2026-03-19/
LOCATION:Honky Tonk Bar\, Covarrubias 24\, Madrid\, Madrid\, España
ORGANIZER;CN="Divisi%C3%B3n Sonora":MAILTO:info@divisionsonora.com
END:VEVENT
BEGIN:VEVENT
DTSTART;TZID=Europe/Madrid:20260320T233000
DTEND;TZID=Europe/Madrid:20260320T233000
DTSTAMP:20260421T173943
CREATED:20240508T113529Z
LAST-MODIFIED:20240508T114238Z
UID:10000410-1774049400-1774049400@divisionsonora.com
SUMMARY:División Sonora Dj's #DSdjs @ Honky Tonk Bar
DESCRIPTION:
URL:https://divisionsonora.com/event/division-sonora-djs-dsdjs/2026-03-20/
LOCATION:Honky Tonk Bar\, Covarrubias 24\, Madrid\, Madrid\, España
ORGANIZER;CN="Divisi%C3%B3n Sonora":MAILTO:info@divisionsonora.com
END:VEVENT
BEGIN:VEVENT
DTSTART;TZID=Europe/Madrid:20260321T233000
DTEND;TZID=Europe/Madrid:20260321T233000
DTSTAMP:20260421T173943
CREATED:20240508T113529Z
LAST-MODIFIED:20240508T114238Z
UID:10000411-1774135800-1774135800@divisionsonora.com
SUMMARY:División Sonora Dj's #DSdjs @ Honky Tonk Bar
DESCRIPTION:
URL:https://divisionsonora.com/event/division-sonora-djs-dsdjs/2026-03-21/
LOCATION:Honky Tonk Bar\, Covarrubias 24\, Madrid\, Madrid\, España
ORGANIZER;CN="Divisi%C3%B3n Sonora":MAILTO:info@divisionsonora.com
END:VEVENT
BEGIN:VEVENT
DTSTART;TZID=Europe/Madrid:20260325T233000
DTEND;TZID=Europe/Madrid:20260325T233000
DTSTAMP:20260421T173943
CREATED:20240508T113529Z
LAST-MODIFIED:20240508T114238Z
UID:10000412-1774481400-1774481400@divisionsonora.com
SUMMARY:División Sonora Dj's #DSdjs @ Honky Tonk Bar
DESCRIPTION:
URL:https://divisionsonora.com/event/division-sonora-djs-dsdjs/2026-03-25/
LOCATION:Honky Tonk Bar\, Covarrubias 24\, Madrid\, Madrid\, España
ORGANIZER;CN="Divisi%C3%B3n Sonora":MAILTO:info@divisionsonora.com
END:VEVENT
BEGIN:VEVENT
DTSTART;TZID=Europe/Madrid:20260326T233000
DTEND;TZID=Europe/Madrid:20260326T233000
DTSTAMP:20260421T173943
CREATED:20240508T113529Z
LAST-MODIFIED:20240508T114238Z
UID:10000413-1774567800-1774567800@divisionsonora.com
SUMMARY:División Sonora Dj's #DSdjs @ Honky Tonk Bar
DESCRIPTION:
URL:https://divisionsonora.com/event/division-sonora-djs-dsdjs/2026-03-26/
LOCATION:Honky Tonk Bar\, Covarrubias 24\, Madrid\, Madrid\, España
ORGANIZER;CN="Divisi%C3%B3n Sonora":MAILTO:info@divisionsonora.com
END:VEVENT
BEGIN:VEVENT
DTSTART;TZID=Europe/Madrid:20260327T233000
DTEND;TZID=Europe/Madrid:20260327T233000
DTSTAMP:20260421T173943
CREATED:20240508T113529Z
LAST-MODIFIED:20240508T114238Z
UID:10000414-1774654200-1774654200@divisionsonora.com
SUMMARY:División Sonora Dj's #DSdjs @ Honky Tonk Bar
DESCRIPTION:
URL:https://divisionsonora.com/event/division-sonora-djs-dsdjs/2026-03-27/
LOCATION:Honky Tonk Bar\, Covarrubias 24\, Madrid\, Madrid\, España
ORGANIZER;CN="Divisi%C3%B3n Sonora":MAILTO:info@divisionsonora.com
END:VEVENT
BEGIN:VEVENT
DTSTART;TZID=Europe/Madrid:20260328T233000
DTEND;TZID=Europe/Madrid:20260328T233000
DTSTAMP:20260421T173943
CREATED:20240508T113529Z
LAST-MODIFIED:20240508T114238Z
UID:10000415-1774740600-1774740600@divisionsonora.com
SUMMARY:División Sonora Dj's #DSdjs @ Honky Tonk Bar
DESCRIPTION:
URL:https://divisionsonora.com/event/division-sonora-djs-dsdjs/2026-03-28/
LOCATION:Honky Tonk Bar\, Covarrubias 24\, Madrid\, Madrid\, España
ORGANIZER;CN="Divisi%C3%B3n Sonora":MAILTO:info@divisionsonora.com
END:VEVENT
BEGIN:VEVENT
DTSTART;TZID=Europe/Madrid:20260401T233000
DTEND;TZID=Europe/Madrid:20260401T233000
DTSTAMP:20260421T173943
CREATED:20240508T113529Z
LAST-MODIFIED:20240508T114238Z
UID:10000416-1775086200-1775086200@divisionsonora.com
SUMMARY:División Sonora Dj's #DSdjs @ Honky Tonk Bar
DESCRIPTION:
URL:https://divisionsonora.com/event/division-sonora-djs-dsdjs/2026-04-01/
LOCATION:Honky Tonk Bar\, Covarrubias 24\, Madrid\, Madrid\, España
ORGANIZER;CN="Divisi%C3%B3n Sonora":MAILTO:info@divisionsonora.com
END:VEVENT
BEGIN:VEVENT
DTSTART;TZID=Europe/Madrid:20260402T233000
DTEND;TZID=Europe/Madrid:20260402T233000
DTSTAMP:20260421T173943
CREATED:20240508T113529Z
LAST-MODIFIED:20240508T114238Z
UID:10000417-1775172600-1775172600@divisionsonora.com
SUMMARY:División Sonora Dj's #DSdjs @ Honky Tonk Bar
DESCRIPTION:
URL:https://divisionsonora.com/event/division-sonora-djs-dsdjs/2026-04-02/
LOCATION:Honky Tonk Bar\, Covarrubias 24\, Madrid\, Madrid\, España
ORGANIZER;CN="Divisi%C3%B3n Sonora":MAILTO:info@divisionsonora.com
END:VEVENT
BEGIN:VEVENT
DTSTART;TZID=Europe/Madrid:20260403T233000
DTEND;TZID=Europe/Madrid:20260403T233000
DTSTAMP:20260421T173943
CREATED:20240508T113529Z
LAST-MODIFIED:20240508T114238Z
UID:10000418-1775259000-1775259000@divisionsonora.com
SUMMARY:División Sonora Dj's #DSdjs @ Honky Tonk Bar
DESCRIPTION:
URL:https://divisionsonora.com/event/division-sonora-djs-dsdjs/2026-04-03/
LOCATION:Honky Tonk Bar\, Covarrubias 24\, Madrid\, Madrid\, España
ORGANIZER;CN="Divisi%C3%B3n Sonora":MAILTO:info@divisionsonora.com
END:VEVENT
BEGIN:VEVENT
DTSTART;TZID=Europe/Madrid:20260404T233000
DTEND;TZID=Europe/Madrid:20260404T233000
DTSTAMP:20260421T173943
CREATED:20240508T113529Z
LAST-MODIFIED:20240508T114238Z
UID:10000419-1775345400-1775345400@divisionsonora.com
SUMMARY:División Sonora Dj's #DSdjs @ Honky Tonk Bar
DESCRIPTION:
URL:https://divisionsonora.com/event/division-sonora-djs-dsdjs/2026-04-04/
LOCATION:Honky Tonk Bar\, Covarrubias 24\, Madrid\, Madrid\, España
ORGANIZER;CN="Divisi%C3%B3n Sonora":MAILTO:info@divisionsonora.com
END:VEVENT
BEGIN:VEVENT
DTSTART;TZID=Europe/Madrid:20260408T233000
DTEND;TZID=Europe/Madrid:20260408T233000
DTSTAMP:20260421T173943
CREATED:20240508T113529Z
LAST-MODIFIED:20240508T114238Z
UID:10000420-1775691000-1775691000@divisionsonora.com
SUMMARY:División Sonora Dj's #DSdjs @ Honky Tonk Bar
DESCRIPTION:
URL:https://divisionsonora.com/event/division-sonora-djs-dsdjs/2026-04-08/
LOCATION:Honky Tonk Bar\, Covarrubias 24\, Madrid\, Madrid\, España
ORGANIZER;CN="Divisi%C3%B3n Sonora":MAILTO:info@divisionsonora.com
END:VEVENT
BEGIN:VEVENT
DTSTART;TZID=Europe/Madrid:20260409T233000
DTEND;TZID=Europe/Madrid:20260409T233000
DTSTAMP:20260421T173943
CREATED:20240508T113529Z
LAST-MODIFIED:20240508T114238Z
UID:10000421-1775777400-1775777400@divisionsonora.com
SUMMARY:División Sonora Dj's #DSdjs @ Honky Tonk Bar
DESCRIPTION:
URL:https://divisionsonora.com/event/division-sonora-djs-dsdjs/2026-04-09/
LOCATION:Honky Tonk Bar\, Covarrubias 24\, Madrid\, Madrid\, España
ORGANIZER;CN="Divisi%C3%B3n Sonora":MAILTO:info@divisionsonora.com
END:VEVENT
BEGIN:VEVENT
DTSTART;TZID=Europe/Madrid:20260410T233000
DTEND;TZID=Europe/Madrid:20260410T233000
DTSTAMP:20260421T173943
CREATED:20240508T113529Z
LAST-MODIFIED:20240508T114238Z
UID:10000422-1775863800-1775863800@divisionsonora.com
SUMMARY:División Sonora Dj's #DSdjs @ Honky Tonk Bar
DESCRIPTION:
URL:https://divisionsonora.com/event/division-sonora-djs-dsdjs/2026-04-10/
LOCATION:Honky Tonk Bar\, Covarrubias 24\, Madrid\, Madrid\, España
ORGANIZER;CN="Divisi%C3%B3n Sonora":MAILTO:info@divisionsonora.com
END:VEVENT
BEGIN:VEVENT
DTSTART;TZID=Europe/Madrid:20260411T233000
DTEND;TZID=Europe/Madrid:20260411T233000
DTSTAMP:20260421T173943
CREATED:20240508T113529Z
LAST-MODIFIED:20240508T114238Z
UID:10000423-1775950200-1775950200@divisionsonora.com
SUMMARY:División Sonora Dj's #DSdjs @ Honky Tonk Bar
DESCRIPTION:
URL:https://divisionsonora.com/event/division-sonora-djs-dsdjs/2026-04-11/
LOCATION:Honky Tonk Bar\, Covarrubias 24\, Madrid\, Madrid\, España
ORGANIZER;CN="Divisi%C3%B3n Sonora":MAILTO:info@divisionsonora.com
END:VEVENT
BEGIN:VEVENT
DTSTART;TZID=Europe/Madrid:20260415T233000
DTEND;TZID=Europe/Madrid:20260415T233000
DTSTAMP:20260421T173943
CREATED:20240508T113529Z
LAST-MODIFIED:20240508T114238Z
UID:10000424-1776295800-1776295800@divisionsonora.com
SUMMARY:División Sonora Dj's #DSdjs @ Honky Tonk Bar
DESCRIPTION:
URL:https://divisionsonora.com/event/division-sonora-djs-dsdjs/2026-04-15/
LOCATION:Honky Tonk Bar\, Covarrubias 24\, Madrid\, Madrid\, España
ORGANIZER;CN="Divisi%C3%B3n Sonora":MAILTO:info@divisionsonora.com
END:VEVENT
BEGIN:VEVENT
DTSTART;TZID=Europe/Madrid:20260416T233000
DTEND;TZID=Europe/Madrid:20260416T233000
DTSTAMP:20260421T173943
CREATED:20240508T113529Z
LAST-MODIFIED:20240508T114238Z
UID:10000425-1776382200-1776382200@divisionsonora.com
SUMMARY:División Sonora Dj's #DSdjs @ Honky Tonk Bar
DESCRIPTION:
URL:https://divisionsonora.com/event/division-sonora-djs-dsdjs/2026-04-16/
LOCATION:Honky Tonk Bar\, Covarrubias 24\, Madrid\, Madrid\, España
ORGANIZER;CN="Divisi%C3%B3n Sonora":MAILTO:info@divisionsonora.com
END:VEVENT
BEGIN:VEVENT
DTSTART;TZID=Europe/Madrid:20260417T200000
DTEND;TZID=Europe/Madrid:20260417T230000
DTSTAMP:20260421T173943
CREATED:20260228T092643Z
LAST-MODIFIED:20260415T113235Z
UID:10002737-1776456000-1776466800@divisionsonora.com
SUMMARY:Santero y los Muchachos en Imagine Music Fest - ENTRADAS AGOTADAS
DESCRIPTION:Santero y los Muchachos en formato trío acústico + Dj MODERNO en el Imagine Music Fest\nLos menores de 16 años deberán ir acompañados de un adulto \nENTRADAS AGOTADAS – – – ENTRADAS AGOTADAS – – – ENTRADAS AGOTADAS – – – ENTRADAS AGOTADAS\nHorarios: 20:00h – Apertura de puertas // 21:00h – Concierto de SANTERO y los Muchachos // 22:15h Dj Moderno \nImagine Music Fest se posiciona como un epicentro del pop y rock nacional\, con espacio para los clásicos\, pero también para la música alternativa y emergente. El festival ofrece al público la opción de ver a sus artistas favoritos\, en un entorno distinto e íntimo en sus diferentes espacios del Hotel. Los conciertos del ciclo Imagine Music Fest del Hotel Barceló Imagine de Madrid destacan por su formato escénico y aforo limitado. \nEl viernes 17 de abril de 2026 desde las 20:00h\, podremos disfrutar en el Hotel Barceló Imagine\, del concierto de SANTERO Y LOS MUCHACHOS en formato trío acústico. \nDurante el último decenio\, el grupo Santero y Los Muchachos ha ido conquistando al público gracias a su convincente directo y a un repertorio en continuo movimiento que esta primavera añadirá un nuevo capítulo –el quinto en larga duración– a su discografía. Instruido en las enseñanzas de todos los clásicos rockeros de los sesenta y setenta\, curtido sobre las tablas a fuerza de girar sin descanso por todo el país\, el cuarteto valenciano ofrece uno de los shows más convincentes de nuestra escena contemporánea con una naturalidad envidiable. \n \n \n 
URL:https://divisionsonora.com/event/santero-y-los-muchachos-en-imagine-music-fest/
LOCATION:Hotel Barceló Imagine\, C/Agustín de Foxá\, 32\, Madrid\, Madrid\, 28036\, España
CATEGORIES:Ciclo,Concierto
ATTACH;FMTTYPE=image/jpeg:https://divisionsonora.com/wp-content/uploads/2026/02/mutick-Santero-Sold-Out.jpg
ORGANIZER;CN="Divisi%C3%B3n Sonora":MAILTO:info@divisionsonora.com
END:VEVENT
END:VCALENDAR