BEGIN:VCALENDAR
VERSION:2.0
PRODID:-//División Sonora - ECPv6.15.20//NONSGML v1.0//EN
CALSCALE:GREGORIAN
METHOD:PUBLISH
X-WR-CALNAME:División Sonora
X-ORIGINAL-URL:https://divisionsonora.com
X-WR-CALDESC:Eventos para División Sonora
REFRESH-INTERVAL;VALUE=DURATION:PT1H
X-Robots-Tag:noindex
X-PUBLISHED-TTL:PT1H
BEGIN:VTIMEZONE
TZID:Europe/Madrid
BEGIN:DAYLIGHT
TZOFFSETFROM:+0100
TZOFFSETTO:+0200
TZNAME:CEST
DTSTART:20240331T010000
END:DAYLIGHT
BEGIN:STANDARD
TZOFFSETFROM:+0200
TZOFFSETTO:+0100
TZNAME:CET
DTSTART:20241027T010000
END:STANDARD
BEGIN:DAYLIGHT
TZOFFSETFROM:+0100
TZOFFSETTO:+0200
TZNAME:CEST
DTSTART:20250330T010000
END:DAYLIGHT
BEGIN:STANDARD
TZOFFSETFROM:+0200
TZOFFSETTO:+0100
TZNAME:CET
DTSTART:20251026T010000
END:STANDARD
BEGIN:DAYLIGHT
TZOFFSETFROM:+0100
TZOFFSETTO:+0200
TZNAME:CEST
DTSTART:20260329T010000
END:DAYLIGHT
BEGIN:STANDARD
TZOFFSETFROM:+0200
TZOFFSETTO:+0100
TZNAME:CET
DTSTART:20261025T010000
END:STANDARD
BEGIN:DAYLIGHT
TZOFFSETFROM:+0100
TZOFFSETTO:+0200
TZNAME:CEST
DTSTART:20270328T010000
END:DAYLIGHT
BEGIN:STANDARD
TZOFFSETFROM:+0200
TZOFFSETTO:+0100
TZNAME:CET
DTSTART:20271031T010000
END:STANDARD
END:VTIMEZONE
BEGIN:VEVENT
DTSTART;TZID=Europe/Madrid:20251231T233000
DTEND;TZID=Europe/Madrid:20251231T233000
DTSTAMP:20260425T215504
CREATED:20240508T113529Z
LAST-MODIFIED:20240508T114238Z
UID:10000364-1767223800-1767223800@divisionsonora.com
SUMMARY:División Sonora Dj's #DSdjs @ Honky Tonk Bar
DESCRIPTION:
URL:https://divisionsonora.com/event/division-sonora-djs-dsdjs/2025-12-31/
LOCATION:Honky Tonk Bar\, Covarrubias 24\, Madrid\, Madrid\, España
ORGANIZER;CN="Divisi%C3%B3n Sonora":MAILTO:info@divisionsonora.com
END:VEVENT
BEGIN:VEVENT
DTSTART;TZID=Europe/Madrid:20260101T233000
DTEND;TZID=Europe/Madrid:20260101T233000
DTSTAMP:20260425T215504
CREATED:20240508T113529Z
LAST-MODIFIED:20240508T114238Z
UID:10000365-1767310200-1767310200@divisionsonora.com
SUMMARY:División Sonora Dj's #DSdjs @ Honky Tonk Bar
DESCRIPTION:
URL:https://divisionsonora.com/event/division-sonora-djs-dsdjs/2026-01-01/
LOCATION:Honky Tonk Bar\, Covarrubias 24\, Madrid\, Madrid\, España
ORGANIZER;CN="Divisi%C3%B3n Sonora":MAILTO:info@divisionsonora.com
END:VEVENT
BEGIN:VEVENT
DTSTART;TZID=Europe/Madrid:20260102T233000
DTEND;TZID=Europe/Madrid:20260102T233000
DTSTAMP:20260425T215504
CREATED:20240508T113529Z
LAST-MODIFIED:20240508T114238Z
UID:10000366-1767396600-1767396600@divisionsonora.com
SUMMARY:División Sonora Dj's #DSdjs @ Honky Tonk Bar
DESCRIPTION:
URL:https://divisionsonora.com/event/division-sonora-djs-dsdjs/2026-01-02/
LOCATION:Honky Tonk Bar\, Covarrubias 24\, Madrid\, Madrid\, España
ORGANIZER;CN="Divisi%C3%B3n Sonora":MAILTO:info@divisionsonora.com
END:VEVENT
BEGIN:VEVENT
DTSTART;TZID=Europe/Madrid:20260103T233000
DTEND;TZID=Europe/Madrid:20260103T233000
DTSTAMP:20260425T215504
CREATED:20240508T113529Z
LAST-MODIFIED:20240508T114238Z
UID:10000367-1767483000-1767483000@divisionsonora.com
SUMMARY:División Sonora Dj's #DSdjs @ Honky Tonk Bar
DESCRIPTION:
URL:https://divisionsonora.com/event/division-sonora-djs-dsdjs/2026-01-03/
LOCATION:Honky Tonk Bar\, Covarrubias 24\, Madrid\, Madrid\, España
ORGANIZER;CN="Divisi%C3%B3n Sonora":MAILTO:info@divisionsonora.com
END:VEVENT
BEGIN:VEVENT
DTSTART;TZID=Europe/Madrid:20260107T233000
DTEND;TZID=Europe/Madrid:20260107T233000
DTSTAMP:20260425T215504
CREATED:20240508T113529Z
LAST-MODIFIED:20240508T114238Z
UID:10000368-1767828600-1767828600@divisionsonora.com
SUMMARY:División Sonora Dj's #DSdjs @ Honky Tonk Bar
DESCRIPTION:
URL:https://divisionsonora.com/event/division-sonora-djs-dsdjs/2026-01-07/
LOCATION:Honky Tonk Bar\, Covarrubias 24\, Madrid\, Madrid\, España
ORGANIZER;CN="Divisi%C3%B3n Sonora":MAILTO:info@divisionsonora.com
END:VEVENT
BEGIN:VEVENT
DTSTART;TZID=Europe/Madrid:20260108T233000
DTEND;TZID=Europe/Madrid:20260108T233000
DTSTAMP:20260425T215504
CREATED:20240508T113529Z
LAST-MODIFIED:20240508T114238Z
UID:10000369-1767915000-1767915000@divisionsonora.com
SUMMARY:División Sonora Dj's #DSdjs @ Honky Tonk Bar
DESCRIPTION:
URL:https://divisionsonora.com/event/division-sonora-djs-dsdjs/2026-01-08/
LOCATION:Honky Tonk Bar\, Covarrubias 24\, Madrid\, Madrid\, España
ORGANIZER;CN="Divisi%C3%B3n Sonora":MAILTO:info@divisionsonora.com
END:VEVENT
BEGIN:VEVENT
DTSTART;TZID=Europe/Madrid:20260109T233000
DTEND;TZID=Europe/Madrid:20260109T233000
DTSTAMP:20260425T215504
CREATED:20240508T113529Z
LAST-MODIFIED:20240508T114238Z
UID:10000370-1768001400-1768001400@divisionsonora.com
SUMMARY:División Sonora Dj's #DSdjs @ Honky Tonk Bar
DESCRIPTION:
URL:https://divisionsonora.com/event/division-sonora-djs-dsdjs/2026-01-09/
LOCATION:Honky Tonk Bar\, Covarrubias 24\, Madrid\, Madrid\, España
ORGANIZER;CN="Divisi%C3%B3n Sonora":MAILTO:info@divisionsonora.com
END:VEVENT
BEGIN:VEVENT
DTSTART;TZID=Europe/Madrid:20260110T233000
DTEND;TZID=Europe/Madrid:20260110T233000
DTSTAMP:20260425T215504
CREATED:20240508T113529Z
LAST-MODIFIED:20240508T114238Z
UID:10000371-1768087800-1768087800@divisionsonora.com
SUMMARY:División Sonora Dj's #DSdjs @ Honky Tonk Bar
DESCRIPTION:
URL:https://divisionsonora.com/event/division-sonora-djs-dsdjs/2026-01-10/
LOCATION:Honky Tonk Bar\, Covarrubias 24\, Madrid\, Madrid\, España
ORGANIZER;CN="Divisi%C3%B3n Sonora":MAILTO:info@divisionsonora.com
END:VEVENT
BEGIN:VEVENT
DTSTART;TZID=Europe/Madrid:20260114T233000
DTEND;TZID=Europe/Madrid:20260114T233000
DTSTAMP:20260425T215504
CREATED:20240508T113529Z
LAST-MODIFIED:20240508T114238Z
UID:10000372-1768433400-1768433400@divisionsonora.com
SUMMARY:División Sonora Dj's #DSdjs @ Honky Tonk Bar
DESCRIPTION:
URL:https://divisionsonora.com/event/division-sonora-djs-dsdjs/2026-01-14/
LOCATION:Honky Tonk Bar\, Covarrubias 24\, Madrid\, Madrid\, España
ORGANIZER;CN="Divisi%C3%B3n Sonora":MAILTO:info@divisionsonora.com
END:VEVENT
BEGIN:VEVENT
DTSTART;TZID=Europe/Madrid:20260115T233000
DTEND;TZID=Europe/Madrid:20260115T233000
DTSTAMP:20260425T215504
CREATED:20240508T113529Z
LAST-MODIFIED:20240508T114238Z
UID:10000373-1768519800-1768519800@divisionsonora.com
SUMMARY:División Sonora Dj's #DSdjs @ Honky Tonk Bar
DESCRIPTION:
URL:https://divisionsonora.com/event/division-sonora-djs-dsdjs/2026-01-15/
LOCATION:Honky Tonk Bar\, Covarrubias 24\, Madrid\, Madrid\, España
ORGANIZER;CN="Divisi%C3%B3n Sonora":MAILTO:info@divisionsonora.com
END:VEVENT
BEGIN:VEVENT
DTSTART;TZID=Europe/Madrid:20260116T233000
DTEND;TZID=Europe/Madrid:20260116T233000
DTSTAMP:20260425T215504
CREATED:20240508T113529Z
LAST-MODIFIED:20240508T114238Z
UID:10000374-1768606200-1768606200@divisionsonora.com
SUMMARY:División Sonora Dj's #DSdjs @ Honky Tonk Bar
DESCRIPTION:
URL:https://divisionsonora.com/event/division-sonora-djs-dsdjs/2026-01-16/
LOCATION:Honky Tonk Bar\, Covarrubias 24\, Madrid\, Madrid\, España
ORGANIZER;CN="Divisi%C3%B3n Sonora":MAILTO:info@divisionsonora.com
END:VEVENT
BEGIN:VEVENT
DTSTART;TZID=Europe/Madrid:20260117T233000
DTEND;TZID=Europe/Madrid:20260117T233000
DTSTAMP:20260425T215504
CREATED:20240508T113529Z
LAST-MODIFIED:20240508T114238Z
UID:10000375-1768692600-1768692600@divisionsonora.com
SUMMARY:División Sonora Dj's #DSdjs @ Honky Tonk Bar
DESCRIPTION:
URL:https://divisionsonora.com/event/division-sonora-djs-dsdjs/2026-01-17/
LOCATION:Honky Tonk Bar\, Covarrubias 24\, Madrid\, Madrid\, España
ORGANIZER;CN="Divisi%C3%B3n Sonora":MAILTO:info@divisionsonora.com
END:VEVENT
BEGIN:VEVENT
DTSTART;TZID=Europe/Madrid:20260121T233000
DTEND;TZID=Europe/Madrid:20260121T233000
DTSTAMP:20260425T215504
CREATED:20240508T113529Z
LAST-MODIFIED:20240508T114238Z
UID:10000376-1769038200-1769038200@divisionsonora.com
SUMMARY:División Sonora Dj's #DSdjs @ Honky Tonk Bar
DESCRIPTION:
URL:https://divisionsonora.com/event/division-sonora-djs-dsdjs/2026-01-21/
LOCATION:Honky Tonk Bar\, Covarrubias 24\, Madrid\, Madrid\, España
ORGANIZER;CN="Divisi%C3%B3n Sonora":MAILTO:info@divisionsonora.com
END:VEVENT
BEGIN:VEVENT
DTSTART;TZID=Europe/Madrid:20260122T233000
DTEND;TZID=Europe/Madrid:20260122T233000
DTSTAMP:20260425T215504
CREATED:20240508T113529Z
LAST-MODIFIED:20240508T114238Z
UID:10000377-1769124600-1769124600@divisionsonora.com
SUMMARY:División Sonora Dj's #DSdjs @ Honky Tonk Bar
DESCRIPTION:
URL:https://divisionsonora.com/event/division-sonora-djs-dsdjs/2026-01-22/
LOCATION:Honky Tonk Bar\, Covarrubias 24\, Madrid\, Madrid\, España
ORGANIZER;CN="Divisi%C3%B3n Sonora":MAILTO:info@divisionsonora.com
END:VEVENT
BEGIN:VEVENT
DTSTART;TZID=Europe/Madrid:20260123T233000
DTEND;TZID=Europe/Madrid:20260123T233000
DTSTAMP:20260425T215504
CREATED:20240508T113529Z
LAST-MODIFIED:20240508T114238Z
UID:10000378-1769211000-1769211000@divisionsonora.com
SUMMARY:División Sonora Dj's #DSdjs @ Honky Tonk Bar
DESCRIPTION:
URL:https://divisionsonora.com/event/division-sonora-djs-dsdjs/2026-01-23/
LOCATION:Honky Tonk Bar\, Covarrubias 24\, Madrid\, Madrid\, España
ORGANIZER;CN="Divisi%C3%B3n Sonora":MAILTO:info@divisionsonora.com
END:VEVENT
BEGIN:VEVENT
DTSTART;TZID=Europe/Madrid:20260124T233000
DTEND;TZID=Europe/Madrid:20260124T233000
DTSTAMP:20260425T215504
CREATED:20240508T113529Z
LAST-MODIFIED:20240508T114238Z
UID:10000379-1769297400-1769297400@divisionsonora.com
SUMMARY:División Sonora Dj's #DSdjs @ Honky Tonk Bar
DESCRIPTION:
URL:https://divisionsonora.com/event/division-sonora-djs-dsdjs/2026-01-24/
LOCATION:Honky Tonk Bar\, Covarrubias 24\, Madrid\, Madrid\, España
ORGANIZER;CN="Divisi%C3%B3n Sonora":MAILTO:info@divisionsonora.com
END:VEVENT
BEGIN:VEVENT
DTSTART;TZID=Europe/Madrid:20260128T233000
DTEND;TZID=Europe/Madrid:20260128T233000
DTSTAMP:20260425T215504
CREATED:20240508T113529Z
LAST-MODIFIED:20240508T114238Z
UID:10000380-1769643000-1769643000@divisionsonora.com
SUMMARY:División Sonora Dj's #DSdjs @ Honky Tonk Bar
DESCRIPTION:
URL:https://divisionsonora.com/event/division-sonora-djs-dsdjs/2026-01-28/
LOCATION:Honky Tonk Bar\, Covarrubias 24\, Madrid\, Madrid\, España
ORGANIZER;CN="Divisi%C3%B3n Sonora":MAILTO:info@divisionsonora.com
END:VEVENT
BEGIN:VEVENT
DTSTART;TZID=Europe/Madrid:20260129T233000
DTEND;TZID=Europe/Madrid:20260129T233000
DTSTAMP:20260425T215504
CREATED:20240508T113529Z
LAST-MODIFIED:20240508T114238Z
UID:10000381-1769729400-1769729400@divisionsonora.com
SUMMARY:División Sonora Dj's #DSdjs @ Honky Tonk Bar
DESCRIPTION:
URL:https://divisionsonora.com/event/division-sonora-djs-dsdjs/2026-01-29/
LOCATION:Honky Tonk Bar\, Covarrubias 24\, Madrid\, Madrid\, España
ORGANIZER;CN="Divisi%C3%B3n Sonora":MAILTO:info@divisionsonora.com
END:VEVENT
BEGIN:VEVENT
DTSTART;TZID=Europe/Madrid:20260130T233000
DTEND;TZID=Europe/Madrid:20260130T233000
DTSTAMP:20260425T215504
CREATED:20240508T113529Z
LAST-MODIFIED:20240508T114238Z
UID:10000382-1769815800-1769815800@divisionsonora.com
SUMMARY:División Sonora Dj's #DSdjs @ Honky Tonk Bar
DESCRIPTION:
URL:https://divisionsonora.com/event/division-sonora-djs-dsdjs/2026-01-30/
LOCATION:Honky Tonk Bar\, Covarrubias 24\, Madrid\, Madrid\, España
ORGANIZER;CN="Divisi%C3%B3n Sonora":MAILTO:info@divisionsonora.com
END:VEVENT
BEGIN:VEVENT
DTSTART;TZID=Europe/Madrid:20260131T233000
DTEND;TZID=Europe/Madrid:20260131T233000
DTSTAMP:20260425T215504
CREATED:20240508T113529Z
LAST-MODIFIED:20240508T114238Z
UID:10000383-1769902200-1769902200@divisionsonora.com
SUMMARY:División Sonora Dj's #DSdjs @ Honky Tonk Bar
DESCRIPTION:
URL:https://divisionsonora.com/event/division-sonora-djs-dsdjs/2026-01-31/
LOCATION:Honky Tonk Bar\, Covarrubias 24\, Madrid\, Madrid\, España
ORGANIZER;CN="Divisi%C3%B3n Sonora":MAILTO:info@divisionsonora.com
END:VEVENT
BEGIN:VEVENT
DTSTART;TZID=Europe/Madrid:20260204T233000
DTEND;TZID=Europe/Madrid:20260204T233000
DTSTAMP:20260425T215504
CREATED:20240508T113529Z
LAST-MODIFIED:20240508T114238Z
UID:10000384-1770247800-1770247800@divisionsonora.com
SUMMARY:División Sonora Dj's #DSdjs @ Honky Tonk Bar
DESCRIPTION:
URL:https://divisionsonora.com/event/division-sonora-djs-dsdjs/2026-02-04/
LOCATION:Honky Tonk Bar\, Covarrubias 24\, Madrid\, Madrid\, España
ORGANIZER;CN="Divisi%C3%B3n Sonora":MAILTO:info@divisionsonora.com
END:VEVENT
BEGIN:VEVENT
DTSTART;TZID=Europe/Madrid:20260205T233000
DTEND;TZID=Europe/Madrid:20260205T233000
DTSTAMP:20260425T215504
CREATED:20240508T113529Z
LAST-MODIFIED:20240508T114238Z
UID:10000385-1770334200-1770334200@divisionsonora.com
SUMMARY:División Sonora Dj's #DSdjs @ Honky Tonk Bar
DESCRIPTION:
URL:https://divisionsonora.com/event/division-sonora-djs-dsdjs/2026-02-05/
LOCATION:Honky Tonk Bar\, Covarrubias 24\, Madrid\, Madrid\, España
ORGANIZER;CN="Divisi%C3%B3n Sonora":MAILTO:info@divisionsonora.com
END:VEVENT
BEGIN:VEVENT
DTSTART;TZID=Europe/Madrid:20260206T233000
DTEND;TZID=Europe/Madrid:20260206T233000
DTSTAMP:20260425T215504
CREATED:20240508T113529Z
LAST-MODIFIED:20240508T114238Z
UID:10000386-1770420600-1770420600@divisionsonora.com
SUMMARY:División Sonora Dj's #DSdjs @ Honky Tonk Bar
DESCRIPTION:
URL:https://divisionsonora.com/event/division-sonora-djs-dsdjs/2026-02-06/
LOCATION:Honky Tonk Bar\, Covarrubias 24\, Madrid\, Madrid\, España
ORGANIZER;CN="Divisi%C3%B3n Sonora":MAILTO:info@divisionsonora.com
END:VEVENT
BEGIN:VEVENT
DTSTART;TZID=Europe/Madrid:20260207T233000
DTEND;TZID=Europe/Madrid:20260207T233000
DTSTAMP:20260425T215504
CREATED:20240508T113529Z
LAST-MODIFIED:20240508T114238Z
UID:10000387-1770507000-1770507000@divisionsonora.com
SUMMARY:División Sonora Dj's #DSdjs @ Honky Tonk Bar
DESCRIPTION:
URL:https://divisionsonora.com/event/division-sonora-djs-dsdjs/2026-02-07/
LOCATION:Honky Tonk Bar\, Covarrubias 24\, Madrid\, Madrid\, España
ORGANIZER;CN="Divisi%C3%B3n Sonora":MAILTO:info@divisionsonora.com
END:VEVENT
BEGIN:VEVENT
DTSTART;TZID=Europe/Madrid:20260211T233000
DTEND;TZID=Europe/Madrid:20260211T233000
DTSTAMP:20260425T215504
CREATED:20240508T113529Z
LAST-MODIFIED:20240508T114238Z
UID:10000388-1770852600-1770852600@divisionsonora.com
SUMMARY:División Sonora Dj's #DSdjs @ Honky Tonk Bar
DESCRIPTION:
URL:https://divisionsonora.com/event/division-sonora-djs-dsdjs/2026-02-11/
LOCATION:Honky Tonk Bar\, Covarrubias 24\, Madrid\, Madrid\, España
ORGANIZER;CN="Divisi%C3%B3n Sonora":MAILTO:info@divisionsonora.com
END:VEVENT
BEGIN:VEVENT
DTSTART;TZID=Europe/Madrid:20260212T233000
DTEND;TZID=Europe/Madrid:20260212T233000
DTSTAMP:20260425T215504
CREATED:20240508T113529Z
LAST-MODIFIED:20240508T114238Z
UID:10000389-1770939000-1770939000@divisionsonora.com
SUMMARY:División Sonora Dj's #DSdjs @ Honky Tonk Bar
DESCRIPTION:
URL:https://divisionsonora.com/event/division-sonora-djs-dsdjs/2026-02-12/
LOCATION:Honky Tonk Bar\, Covarrubias 24\, Madrid\, Madrid\, España
ORGANIZER;CN="Divisi%C3%B3n Sonora":MAILTO:info@divisionsonora.com
END:VEVENT
BEGIN:VEVENT
DTSTART;TZID=Europe/Madrid:20260213T233000
DTEND;TZID=Europe/Madrid:20260213T233000
DTSTAMP:20260425T215504
CREATED:20240508T113529Z
LAST-MODIFIED:20240508T114238Z
UID:10000390-1771025400-1771025400@divisionsonora.com
SUMMARY:División Sonora Dj's #DSdjs @ Honky Tonk Bar
DESCRIPTION:
URL:https://divisionsonora.com/event/division-sonora-djs-dsdjs/2026-02-13/
LOCATION:Honky Tonk Bar\, Covarrubias 24\, Madrid\, Madrid\, España
ORGANIZER;CN="Divisi%C3%B3n Sonora":MAILTO:info@divisionsonora.com
END:VEVENT
BEGIN:VEVENT
DTSTART;TZID=Europe/Madrid:20260214T233000
DTEND;TZID=Europe/Madrid:20260214T233000
DTSTAMP:20260425T215504
CREATED:20240508T113529Z
LAST-MODIFIED:20240508T114238Z
UID:10000391-1771111800-1771111800@divisionsonora.com
SUMMARY:División Sonora Dj's #DSdjs @ Honky Tonk Bar
DESCRIPTION:
URL:https://divisionsonora.com/event/division-sonora-djs-dsdjs/2026-02-14/
LOCATION:Honky Tonk Bar\, Covarrubias 24\, Madrid\, Madrid\, España
ORGANIZER;CN="Divisi%C3%B3n Sonora":MAILTO:info@divisionsonora.com
END:VEVENT
BEGIN:VEVENT
DTSTART;TZID=Europe/Madrid:20260218T190000
DTEND;TZID=Europe/Madrid:20260218T210000
DTSTAMP:20260425T215504
CREATED:20260126T093324Z
LAST-MODIFIED:20260203T083909Z
UID:10002736-1771441200-1771448400@divisionsonora.com
SUMMARY:Concierto Solidario Fundación AEDH
DESCRIPTION:Concierto Solidario Fundación AEDH en Hotel Claridge Madrid\nOrganizado por AEDH Asociación Española de Directores de Hotel \nBelle Acoustic en concierto acústico de versiones a favor de la Fundación AEDH.\nProducido por División Sonora. \nVenta de entradas\nLa Asociación Española de Directores de Hotel (AEDH)\, con División Sonora\, presenta Belle Acoustic\, en un concierto íntimo en formato acústico cuyos beneficios se destinarán íntegramente a la Fundación AEDH. \nBelle Acoustic es un trío formado por la cantante Paloma Campoamor\, el guitarrista José Enrique y el teclista Adrián Solla. Su propuesta combina sensibilidad\, calidad musical y cercanía\, ofreciendo un repertorio variado y altamente melódico. \nDurante el concierto\, el público podrá disfrutar de versiones en acústico de jazz\, bossa nova\, soul\, blues\, pop y rock\, reinterpretadas con arreglos cuidados y una puesta en escena elegante\, pensada para escuchar y sentir cada tema. \nEl evento tendrá lugar en el Hotel Claridge Madrid\, un entorno ideal para este formato íntimo que une música en directo\, solidaridad y hospitalidad. \nUna oportunidad para disfrutar de la música y colaborar con una causa solidaria vinculada al sector hotelero. \nVenta anticipada: https://www.eventbrite.es/e/entradas-concierto-solidario-fundacion-aedh-en-hotel-claridge-madrid-1981021704245
URL:https://divisionsonora.com/event/concierto-solidario-fundacion-aedh/
LOCATION:Hotel Claridge\, Plaza del Conde de Casal\, 6\, Madrid\, Madrid\, 28007\, España
CATEGORIES:Concierto
ATTACH;FMTTYPE=image/png:https://divisionsonora.com/wp-content/uploads/2026/01/EventoAEDH18feb2026-BelleAcoustic-horizontal.png
ORGANIZER;CN="Divisi%C3%B3n Sonora":MAILTO:info@divisionsonora.com
END:VEVENT
BEGIN:VEVENT
DTSTART;TZID=Europe/Madrid:20260218T233000
DTEND;TZID=Europe/Madrid:20260218T233000
DTSTAMP:20260425T215504
CREATED:20240508T113529Z
LAST-MODIFIED:20240508T114238Z
UID:10000392-1771457400-1771457400@divisionsonora.com
SUMMARY:División Sonora Dj's #DSdjs @ Honky Tonk Bar
DESCRIPTION:
URL:https://divisionsonora.com/event/division-sonora-djs-dsdjs/2026-02-18/
LOCATION:Honky Tonk Bar\, Covarrubias 24\, Madrid\, Madrid\, España
ORGANIZER;CN="Divisi%C3%B3n Sonora":MAILTO:info@divisionsonora.com
END:VEVENT
END:VCALENDAR